BEGIN:VCALENDAR
VERSION:2.0
PRODID:-//Schneider´s Gasthof zum Waldstein - ECPv5.14.0.3//NONSGML v1.0//EN
CALSCALE:GREGORIAN
METHOD:PUBLISH
X-WR-CALNAME:Schneider´s Gasthof zum Waldstein
X-ORIGINAL-URL:https://gasthof-zum-waldstein.de
X-WR-CALDESC:Veranstaltungen für Schneider´s Gasthof zum Waldstein
BEGIN:VTIMEZONE
TZID:Europe/Berlin
BEGIN:DAYLIGHT
TZOFFSETFROM:+0100
TZOFFSETTO:+0200
TZNAME:CEST
DTSTART:20260329T010000
END:DAYLIGHT
BEGIN:STANDARD
TZOFFSETFROM:+0200
TZOFFSETTO:+0100
TZNAME:CET
DTSTART:20261025T010000
END:STANDARD
END:VTIMEZONE
BEGIN:VEVENT
DTSTART;VALUE=DATE:20260119
DTEND;VALUE=DATE:20260126
DTSTAMP:20260422T115252
CREATED:20210829T195331Z
LAST-MODIFIED:20260109T175221Z
UID:3819-1768780800-1769385599@gasthof-zum-waldstein.de
SUMMARY:Betriebsurlaub
DESCRIPTION:
URL:https://gasthof-zum-waldstein.de/veranstaltung/steakabend-2026-01-23/
LOCATION:Schneider´s Gasthof zum Waldstein\, Marktplatz 16\, Zell/Oberfranken\, Bayern\, 95239\, Deutschland
CATEGORIES:Kulinarischer Kalender
ORGANIZER;CN="Schneider%C2%B4s%20Gasthof%20zum%20Waldstein":MAILTO:info@gasthof-zum-waldstein.de
END:VEVENT
END:VCALENDAR