BEGIN:VCALENDAR
VERSION:2.0
PRODID:-//Schneider´s Gasthof zum Waldstein - ECPv5.14.0.3//NONSGML v1.0//EN
CALSCALE:GREGORIAN
METHOD:PUBLISH
X-WR-CALNAME:Schneider´s Gasthof zum Waldstein
X-ORIGINAL-URL:https://gasthof-zum-waldstein.de
X-WR-CALDESC:Veranstaltungen für Schneider´s Gasthof zum Waldstein
BEGIN:VTIMEZONE
TZID:Europe/Berlin
BEGIN:DAYLIGHT
TZOFFSETFROM:+0100
TZOFFSETTO:+0200
TZNAME:CEST
DTSTART:20250330T010000
END:DAYLIGHT
BEGIN:STANDARD
TZOFFSETFROM:+0200
TZOFFSETTO:+0100
TZNAME:CET
DTSTART:20251026T010000
END:STANDARD
END:VTIMEZONE
BEGIN:VEVENT
DTSTART;TZID=Europe/Berlin:20251226T113000
DTEND;TZID=Europe/Berlin:20251226T143000
DTSTAMP:20260420T183056
CREATED:20210829T195331Z
LAST-MODIFIED:20251019T202330Z
UID:3696-1766748600-1766759400@gasthof-zum-waldstein.de
SUMMARY:Weihnachts Spezialitäten
DESCRIPTION:
URL:https://gasthof-zum-waldstein.de/veranstaltung/steakabend-2025-12-26/
LOCATION:Schneider´s Gasthof zum Waldstein\, Marktplatz 16\, Zell/Oberfranken\, Bayern\, 95239\, Deutschland
CATEGORIES:Kulinarischer Kalender
ORGANIZER;CN="Schneider%C2%B4s%20Gasthof%20zum%20Waldstein":MAILTO:info@gasthof-zum-waldstein.de
END:VEVENT
END:VCALENDAR