BEGIN:VCALENDAR
VERSION:2.0
PRODID:-//Schneider´s Gasthof zum Waldstein - ECPv5.14.0.3//NONSGML v1.0//EN
CALSCALE:GREGORIAN
METHOD:PUBLISH
X-WR-CALNAME:Schneider´s Gasthof zum Waldstein
X-ORIGINAL-URL:https://gasthof-zum-waldstein.de
X-WR-CALDESC:Veranstaltungen für Schneider´s Gasthof zum Waldstein
BEGIN:VTIMEZONE
TZID:UTC
BEGIN:STANDARD
TZOFFSETFROM:+0000
TZOFFSETTO:+0000
TZNAME:UTC
DTSTART:20250101T000000
END:STANDARD
END:VTIMEZONE
BEGIN:VEVENT
DTSTART;VALUE=DATE:20250706
DTEND;VALUE=DATE:20250717
DTSTAMP:20260422T181026
CREATED:20230613T202830Z
LAST-MODIFIED:20250109T194628Z
UID:3631-1751760000-1752710399@gasthof-zum-waldstein.de
SUMMARY:Restaurant geschlossen
DESCRIPTION:
URL:https://gasthof-zum-waldstein.de/veranstaltung/sonntag-mittagstisch-2-2023-11-05-2024-07-28/
LOCATION:Schneider´s Gasthof zum Waldstein\, Marktplatz 16\, Zell/Oberfranken\, Bayern\, 95239\, Deutschland
CATEGORIES:Kulinarischer Kalender
ORGANIZER;CN="Schneider%C2%B4s%20Gasthof%20zum%20Waldstein":MAILTO:info@gasthof-zum-waldstein.de
END:VEVENT
END:VCALENDAR