BEGIN:VCALENDAR
VERSION:2.0
PRODID:-//Schneider´s Gasthof zum Waldstein - ECPv5.14.0.3//NONSGML v1.0//EN
CALSCALE:GREGORIAN
METHOD:PUBLISH
X-WR-CALNAME:Schneider´s Gasthof zum Waldstein
X-ORIGINAL-URL:https://gasthof-zum-waldstein.de
X-WR-CALDESC:Veranstaltungen für Schneider´s Gasthof zum Waldstein
BEGIN:VTIMEZONE
TZID:UTC
BEGIN:STANDARD
TZOFFSETFROM:+0000
TZOFFSETTO:+0000
TZNAME:UTC
DTSTART:20250101T000000
END:STANDARD
END:VTIMEZONE
BEGIN:VEVENT
DTSTART;TZID=UTC:20251119T170000
DTEND;TZID=UTC:20251119T203000
DTSTAMP:20260420T213504
CREATED:20250930T193429Z
LAST-MODIFIED:20250930T193429Z
UID:6176-1763571600-1763584200@gasthof-zum-waldstein.de
SUMMARY:Abendkarte Herbst
DESCRIPTION:
URL:https://gasthof-zum-waldstein.de/veranstaltung/abendkarte-herbst/2025-11-19/
LOCATION:Schneider´s Gasthof zum Waldstein\, Marktplatz 16\, Zell/Oberfranken\, Bayern\, 95239\, Deutschland
CATEGORIES:Kulinarischer Kalender
ORGANIZER;CN="Schneider%C2%B4s%20Gasthof%20zum%20Waldstein":MAILTO:info@gasthof-zum-waldstein.de
END:VEVENT
END:VCALENDAR