BEGIN:VCALENDAR
VERSION:2.0
PRODID:-//Schneider´s Gasthof zum Waldstein - ECPv5.14.0.3//NONSGML v1.0//EN
CALSCALE:GREGORIAN
METHOD:PUBLISH
X-WR-CALNAME:Schneider´s Gasthof zum Waldstein
X-ORIGINAL-URL:https://gasthof-zum-waldstein.de
X-WR-CALDESC:Veranstaltungen für Schneider´s Gasthof zum Waldstein
BEGIN:VTIMEZONE
TZID:UTC
BEGIN:STANDARD
TZOFFSETFROM:+0000
TZOFFSETTO:+0000
TZNAME:UTC
DTSTART:20260101T000000
END:STANDARD
END:VTIMEZONE
BEGIN:VEVENT
DTSTART;TZID=UTC:20260305T180000
DTEND;TZID=UTC:20260305T210000
DTSTAMP:20260420T135100
CREATED:20260206T165618Z
LAST-MODIFIED:20260206T165618Z
UID:6850-1772733600-1772744400@gasthof-zum-waldstein.de
SUMMARY:4-Gang Bärlauchmenü
DESCRIPTION:
URL:https://gasthof-zum-waldstein.de/veranstaltung/4-gang-baerlauchmenue/
LOCATION:Schneider´s Gasthof zum Waldstein\, Marktplatz 16\, Zell/Oberfranken\, Bayern\, 95239\, Deutschland
CATEGORIES:Kulinarischer Kalender
ORGANIZER;CN="Schneider%C2%B4s%20Gasthof%20zum%20Waldstein":MAILTO:info@gasthof-zum-waldstein.de
END:VEVENT
END:VCALENDAR